BEGIN:VCALENDAR
VERSION:2.0
PRODID:-//jEvents 2.0 for Joomla//EN
CALSCALE:GREGORIAN
METHOD:PUBLISH
BEGIN:VTIMEZONE
TZID:Europe/Berlin
BEGIN:STANDARD
DTSTART:20131028T171500
RDATE:20140330T030000
TZOFFSETFROM:+0200
TZOFFSETTO:+0100
TZNAME:Europe/Berlin CET
END:STANDARD
BEGIN:STANDARD
DTSTART:20141026T020000
RDATE:20150329T030000
TZOFFSETFROM:+0200
TZOFFSETTO:+0100
TZNAME:Europe/Berlin CET
END:STANDARD
BEGIN:STANDARD
DTSTART:20151025T020000
RDATE:20160327T030000
TZOFFSETFROM:+0200
TZOFFSETTO:+0100
TZNAME:Europe/Berlin CET
END:STANDARD
BEGIN:STANDARD
DTSTART:20161030T020000
RDATE:20170326T030000
TZOFFSETFROM:+0200
TZOFFSETTO:+0100
TZNAME:Europe/Berlin CET
END:STANDARD
BEGIN:STANDARD
DTSTART:20171029T020000
RDATE:20180325T030000
TZOFFSETFROM:+0200
TZOFFSETTO:+0100
TZNAME:Europe/Berlin CET
END:STANDARD
BEGIN:STANDARD
DTSTART:20181028T020000
RDATE:20190331T030000
TZOFFSETFROM:+0200
TZOFFSETTO:+0100
TZNAME:Europe/Berlin CET
END:STANDARD
BEGIN:STANDARD
DTSTART:20191027T020000
RDATE:20200329T030000
TZOFFSETFROM:+0200
TZOFFSETTO:+0100
TZNAME:Europe/Berlin CET
END:STANDARD
BEGIN:STANDARD
DTSTART:20201025T020000
RDATE:20210328T030000
TZOFFSETFROM:+0200
TZOFFSETTO:+0100
TZNAME:Europe/Berlin CET
END:STANDARD
BEGIN:STANDARD
DTSTART:20211031T020000
RDATE:20220327T030000
TZOFFSETFROM:+0200
TZOFFSETTO:+0100
TZNAME:Europe/Berlin CET
END:STANDARD
BEGIN:STANDARD
DTSTART:20221030T020000
RDATE:20230326T030000
TZOFFSETFROM:+0200
TZOFFSETTO:+0100
TZNAME:Europe/Berlin CET
END:STANDARD
BEGIN:STANDARD
DTSTART:20231029T020000
RDATE:20240331T030000
TZOFFSETFROM:+0200
TZOFFSETTO:+0100
TZNAME:Europe/Berlin CET
END:STANDARD
BEGIN:STANDARD
DTSTART:20241027T020000
RDATE:20250330T030000
TZOFFSETFROM:+0200
TZOFFSETTO:+0100
TZNAME:Europe/Berlin CET
END:STANDARD
BEGIN:STANDARD
DTSTART:20251026T020000
RDATE:20260329T030000
TZOFFSETFROM:+0200
TZOFFSETTO:+0100
TZNAME:Europe/Berlin CET
END:STANDARD
BEGIN:STANDARD
DTSTART:20261025T020000
RDATE:20270328T030000
TZOFFSETFROM:+0200
TZOFFSETTO:+0100
TZNAME:Europe/Berlin CET
END:STANDARD
BEGIN:STANDARD
DTSTART:20271031T020000
RDATE:20280326T030000
TZOFFSETFROM:+0200
TZOFFSETTO:+0100
TZNAME:Europe/Berlin CET
END:STANDARD
BEGIN:STANDARD
DTSTART:20281029T020000
RDATE:20290325T030000
TZOFFSETFROM:+0200
TZOFFSETTO:+0100
TZNAME:Europe/Berlin CET
END:STANDARD
BEGIN:STANDARD
DTSTART:20291028T020000
RDATE:20300331T030000
TZOFFSETFROM:+0200
TZOFFSETTO:+0100
TZNAME:Europe/Berlin CET
END:STANDARD
BEGIN:STANDARD
DTSTART:20301027T020000
RDATE:20310330T030000
TZOFFSETFROM:+0200
TZOFFSETTO:+0100
TZNAME:Europe/Berlin CET
END:STANDARD
BEGIN:STANDARD
DTSTART:20311026T020000
RDATE:20320328T030000
TZOFFSETFROM:+0200
TZOFFSETTO:+0100
TZNAME:Europe/Berlin CET
END:STANDARD
BEGIN:STANDARD
DTSTART:20321031T020000
RDATE:20330327T030000
TZOFFSETFROM:+0200
TZOFFSETTO:+0100
TZNAME:Europe/Berlin CET
END:STANDARD
BEGIN:DAYLIGHT
DTSTART:20140330T030000
RDATE:20141026T020000
TZOFFSETFROM:+0100
TZOFFSETTO:+0200
TZNAME:Europe/Berlin CEST
END:DAYLIGHT
BEGIN:DAYLIGHT
DTSTART:20150329T030000
RDATE:20151025T020000
TZOFFSETFROM:+0100
TZOFFSETTO:+0200
TZNAME:Europe/Berlin CEST
END:DAYLIGHT
BEGIN:DAYLIGHT
DTSTART:20160327T030000
RDATE:20161030T020000
TZOFFSETFROM:+0100
TZOFFSETTO:+0200
TZNAME:Europe/Berlin CEST
END:DAYLIGHT
BEGIN:DAYLIGHT
DTSTART:20170326T030000
RDATE:20171029T020000
TZOFFSETFROM:+0100
TZOFFSETTO:+0200
TZNAME:Europe/Berlin CEST
END:DAYLIGHT
BEGIN:DAYLIGHT
DTSTART:20180325T030000
RDATE:20181028T020000
TZOFFSETFROM:+0100
TZOFFSETTO:+0200
TZNAME:Europe/Berlin CEST
END:DAYLIGHT
BEGIN:DAYLIGHT
DTSTART:20190331T030000
RDATE:20191027T020000
TZOFFSETFROM:+0100
TZOFFSETTO:+0200
TZNAME:Europe/Berlin CEST
END:DAYLIGHT
BEGIN:DAYLIGHT
DTSTART:20200329T030000
RDATE:20201025T020000
TZOFFSETFROM:+0100
TZOFFSETTO:+0200
TZNAME:Europe/Berlin CEST
END:DAYLIGHT
BEGIN:DAYLIGHT
DTSTART:20210328T030000
RDATE:20211031T020000
TZOFFSETFROM:+0100
TZOFFSETTO:+0200
TZNAME:Europe/Berlin CEST
END:DAYLIGHT
BEGIN:DAYLIGHT
DTSTART:20220327T030000
RDATE:20221030T020000
TZOFFSETFROM:+0100
TZOFFSETTO:+0200
TZNAME:Europe/Berlin CEST
END:DAYLIGHT
BEGIN:DAYLIGHT
DTSTART:20230326T030000
RDATE:20231029T020000
TZOFFSETFROM:+0100
TZOFFSETTO:+0200
TZNAME:Europe/Berlin CEST
END:DAYLIGHT
BEGIN:DAYLIGHT
DTSTART:20240331T030000
RDATE:20241027T020000
TZOFFSETFROM:+0100
TZOFFSETTO:+0200
TZNAME:Europe/Berlin CEST
END:DAYLIGHT
BEGIN:DAYLIGHT
DTSTART:20250330T030000
RDATE:20251026T020000
TZOFFSETFROM:+0100
TZOFFSETTO:+0200
TZNAME:Europe/Berlin CEST
END:DAYLIGHT
BEGIN:DAYLIGHT
DTSTART:20260329T030000
RDATE:20261025T020000
TZOFFSETFROM:+0100
TZOFFSETTO:+0200
TZNAME:Europe/Berlin CEST
END:DAYLIGHT
BEGIN:DAYLIGHT
DTSTART:20270328T030000
RDATE:20271031T020000
TZOFFSETFROM:+0100
TZOFFSETTO:+0200
TZNAME:Europe/Berlin CEST
END:DAYLIGHT
BEGIN:DAYLIGHT
DTSTART:20280326T030000
RDATE:20281029T020000
TZOFFSETFROM:+0100
TZOFFSETTO:+0200
TZNAME:Europe/Berlin CEST
END:DAYLIGHT
BEGIN:DAYLIGHT
DTSTART:20290325T030000
RDATE:20291028T020000
TZOFFSETFROM:+0100
TZOFFSETTO:+0200
TZNAME:Europe/Berlin CEST
END:DAYLIGHT
BEGIN:DAYLIGHT
DTSTART:20300331T030000
RDATE:20301027T020000
TZOFFSETFROM:+0100
TZOFFSETTO:+0200
TZNAME:Europe/Berlin CEST
END:DAYLIGHT
BEGIN:DAYLIGHT
DTSTART:20310330T030000
RDATE:20311026T020000
TZOFFSETFROM:+0100
TZOFFSETTO:+0200
TZNAME:Europe/Berlin CEST
END:DAYLIGHT
BEGIN:DAYLIGHT
DTSTART:20320328T030000
RDATE:20321031T020000
TZOFFSETFROM:+0100
TZOFFSETTO:+0200
TZNAME:Europe/Berlin CEST
END:DAYLIGHT
END:VTIMEZONE
BEGIN:VEVENT
UID:27081f5b2a7541b36103a2f629824e86
CATEGORIES:Kreisjugendfeuerwehrverband
CREATED:20141007T164708
SUMMARY:Kinotag der Jugendfeuerwehren
LOCATION:Weltbio-Kino in Schweinfurt
DESCRIPTION:<p><span style="font-size: 10pt;">Die Jugendfeuerwehr im Kreisfeuerwehrverb
 and Schweinfurt e.V. ermöglicht den Jugendfeuerwehrleuten des Landkreises S
 chweinfurt die Teilnahme an Kinovorführungen zu einem besonderen Eintrittsp
 reis.</span></p><p style="font-size: 12pt; margin-top: 10px; font-weight: b
 old;">Was? Wann? Wo?</p><p>Kinotag</p><p>29.10.2014 ab 17:15 Uhr</p><p>im W
 eltbio Schweinfurt</p><p>Um die Koordination zu erleichtern, bitten wir um 
 16:45 Uhr am Weltbio-Kino in Schweinfurt, Rückertstr. 16, zu sein.</p><p st
 yle="font-size: 12pt; margin-top: 10px; font-weight: bold;">Welche Filme we
 rden gezeigt?</p><ul><li>Der 7bte Zwerg (FSK 0 | Beginn um 17:30 Uhr)</li><
 li>Gone Girl (FSK 16 | Beginn um 17:15 Uhr)</li><li>Sex Tape (FSK 12 | Begi
 nn um 17:30 Uhr)</li></ul><p style="font-size: 12pt; margin-top: 10px; font
 -weight: bold;">Wie erfolgt die Anmeldung?</p><p>Die Anmeldung erfolgt mit 
 einer Teilnehmerliste (<a href="index.php/downloadbereich/jugendfeuerwehr/1
 54-anmeldeliste-kinotag-2014/file">Download hier</a>), die Name und Filmaus
 wahl beinhaltet. Diese Liste schickt ihr bis spätestens 24.10.2014 zum Krei
 sjugendfeuerwehrwart:</p><p>E-Mail: <span id="cloak474d14cf90ac1a830d5eb411
 eba2778d">Diese E-Mail-Adresse ist vor Spambots geschützt! Zur Anzeige muss
  JavaScript eingeschaltet sein!</span><script type='text/javascript'>
				d
 ocument.getElementById('cloak474d14cf90ac1a830d5eb411eba2778d').innerHTML =
  '';
				var prefix = '&#109;a' + 'i&#108;' + '&#116;o';
				var path = 'hr
 ' + 'ef' + '=';
				var addy474d14cf90ac1a830d5eb411eba2778d = 'M&#97;rt&#1
 05;n.K&#97;&#105;s&#101;r' + '&#64;';
				addy474d14cf90ac1a830d5eb411eba27
 78d = addy474d14cf90ac1a830d5eb411eba2778d + 'kfv-schw&#101;&#105;nf&#117;r
 t' + '&#46;' + 'd&#101;';
				var addy_text474d14cf90ac1a830d5eb411eba2778d
  = 'M&#97;rt&#105;n.K&#97;&#105;s&#101;r' + '&#64;' + 'kfv-schw&#101;&#105;
 nf&#117;rt' + '&#46;' + 'd&#101;';document.getElementById('cloak474d14cf90a
 c1a830d5eb411eba2778d').innerHTML += '<a ' + path + '\'' + prefix + ':' + a
 ddy474d14cf90ac1a830d5eb411eba2778d + '\'>'+addy_text474d14cf90ac1a830d5eb4
 11eba2778d+'<\/a>';
		</script></p><p>Die Teilnehmerzahl ist je nach Raum/F
 ilm begrenzt. Die Zuordnung erfolgt nach Eingang der Anmeldungen.</p><p sty
 le="font-size: 12pt; margin-top: 10px; font-weight: bold;">Was kostet der E
 intritt?</p><p>Der Eintrittspreis beträgt für jeden Jugendfeuerwehrler (Nac
 hweis) 3,-€.</p><p>Bei Erscheinen in Jugendschutzanzug (Hose+Jacke) wird ei
 n weiterer Nachlass von 1,-€ gewährt.</p><p style="margin-top: 5px;"><span 
 style="background-color: #ffff00;">Änderungen vorbehalten</span></p><p styl
 e="margin-top: 5px;"><strong><span style="color: #ff0000; font-size: 12pt;"
 >Wir freuen uns über eine zahlreiche Teilnahme!</span></strong></p><table s
 tyle="width: 90%; margin-top: 10px;"><tbody><tr><td><span style="font-weigh
 t: bold;">Holger Strunk<br /><span style="color: #0000ff;">Kreisbrandrat</s
 pan></span></td><td><span style="font-weight: bold;">Christian Eichel<br />
 <span style="color: #0000ff;">Kreisjugendfeuerwehrwart</span></span></td><t
 d><span style="font-weight: bold;">Frank Genheimer<br /><span style="color:
  #0000ff;">Kreisjugendsprecher</span></span></td></tr></tbody></table>
X-ALT-DESC;FMTTYPE=text/html:<p><span style="font-size: 10pt;">Die Jugendfeuerwehr im Kreisfeuerwehrverb
 and Schweinfurt e.V. ermöglicht den Jugendfeuerwehrleuten des Landkreises S
 chweinfurt die Teilnahme an Kinovorführungen zu einem besonderen Eintrittsp
 reis.</span></p><p style="font-size: 12pt; margin-top: 10px; font-weight: b
 old;">Was? Wann? Wo?</p><p>Kinotag</p><p>29.10.2014 ab 17:15 Uhr</p><p>im W
 eltbio Schweinfurt</p><p>Um die Koordination zu erleichtern, bitten wir um 
 16:45 Uhr am Weltbio-Kino in Schweinfurt, Rückertstr. 16, zu sein.</p><p st
 yle="font-size: 12pt; margin-top: 10px; font-weight: bold;">Welche Filme we
 rden gezeigt?</p><ul><li>Der 7bte Zwerg (FSK 0 | Beginn um 17:30 Uhr)</li><
 li>Gone Girl (FSK 16 | Beginn um 17:15 Uhr)</li><li>Sex Tape (FSK 12 | Begi
 nn um 17:30 Uhr)</li></ul><p style="font-size: 12pt; margin-top: 10px; font
 -weight: bold;">Wie erfolgt die Anmeldung?</p><p>Die Anmeldung erfolgt mit 
 einer Teilnehmerliste (<a href="https://www.kfv-schweinfurt.de/index.php/do
 wnloadbereich/jugendfeuerwehr/154-anmeldeliste-kinotag-2014/file">Download 
 hier</a>), die Name und Filmauswahl beinhaltet. Diese Liste schickt ihr bis
  spätestens 24.10.2014 zum Kreisjugendfeuerwehrwart:</p><p>E-Mail: <span id
 ="cloak474d14cf90ac1a830d5eb411eba2778d">Diese E-Mail-Adresse ist vor Spamb
 ots geschützt! Zur Anzeige muss JavaScript eingeschaltet sein!</span><scrip
 t type='text/javascript'>
				document.getElementById('cloak474d14cf90ac1a8
 30d5eb411eba2778d').innerHTML = '';
				var prefix = '&#109;a' + 'i&#108;' 
 + '&#116;o';
				var path = 'hr' + 'ef' + '=';
				var addy474d14cf90ac1a83
 0d5eb411eba2778d = 'M&#97;rt&#105;n.K&#97;&#105;s&#101;r' + '&#64;';
				ad
 dy474d14cf90ac1a830d5eb411eba2778d = addy474d14cf90ac1a830d5eb411eba2778d +
  'kfv-schw&#101;&#105;nf&#117;rt' + '&#46;' + 'd&#101;';
				var addy_text4
 74d14cf90ac1a830d5eb411eba2778d = 'M&#97;rt&#105;n.K&#97;&#105;s&#101;r' + 
 '&#64;' + 'kfv-schw&#101;&#105;nf&#117;rt' + '&#46;' + 'd&#101;';document.g
 etElementById('cloak474d14cf90ac1a830d5eb411eba2778d').innerHTML += '<a ' +
  path + '\'' + prefix + ':' + addy474d14cf90ac1a830d5eb411eba2778d + '\'>'+
 addy_text474d14cf90ac1a830d5eb411eba2778d+'<\/a>';
		</script></p><p>Die Te
 ilnehmerzahl ist je nach Raum/Film begrenzt. Die Zuordnung erfolgt nach Ein
 gang der Anmeldungen.</p><p style="font-size: 12pt; margin-top: 10px; font-
 weight: bold;">Was kostet der Eintritt?</p><p>Der Eintrittspreis beträgt fü
 r jeden Jugendfeuerwehrler (Nachweis) 3,-€.</p><p>Bei Erscheinen in Jugends
 chutzanzug (Hose+Jacke) wird ein weiterer Nachlass von 1,-€ gewährt.</p><p 
 style="margin-top: 5px;"><span style="background-color: #ffff00;">Änderunge
 n vorbehalten</span></p><p style="margin-top: 5px;"><strong><span style="co
 lor: #ff0000; font-size: 12pt;">Wir freuen uns über eine zahlreiche Teilnah
 me!</span></strong></p><table style="width: 90%; margin-top: 10px;"><tbody>
 <tr><td><span style="font-weight: bold;">Holger Strunk<br /><span style="co
 lor: #0000ff;">Kreisbrandrat</span></span></td><td><span style="font-weight
 : bold;">Christian Eichel<br /><span style="color: #0000ff;">Kreisjugendfeu
 erwehrwart</span></span></td><td><span style="font-weight: bold;">Frank Gen
 heimer<br /><span style="color: #0000ff;">Kreisjugendsprecher</span></span>
 </td></tr></tbody></table>
DTSTAMP:20260421T144447
DTSTART;TZID=Europe/Berlin:20141029T171500
SEQUENCE:0
TRANSP:OPAQUE
END:VEVENT
END:VCALENDAR