BEGIN:VCALENDAR
VERSION:2.0
PRODID:-//jEvents 2.0 for Joomla//EN
CALSCALE:GREGORIAN
METHOD:PUBLISH
BEGIN:VTIMEZONE
TZID:Europe/Berlin
BEGIN:STANDARD
DTSTART:20241027T020000
RDATE:20250330T030000
TZOFFSETFROM:+0200
TZOFFSETTO:+0100
TZNAME:Europe/Berlin CET
END:STANDARD
BEGIN:STANDARD
DTSTART:20251026T020000
RDATE:20260329T030000
TZOFFSETFROM:+0200
TZOFFSETTO:+0100
TZNAME:Europe/Berlin CET
END:STANDARD
BEGIN:STANDARD
DTSTART:20261025T020000
RDATE:20270328T030000
TZOFFSETFROM:+0200
TZOFFSETTO:+0100
TZNAME:Europe/Berlin CET
END:STANDARD
BEGIN:STANDARD
DTSTART:20271031T020000
RDATE:20280326T030000
TZOFFSETFROM:+0200
TZOFFSETTO:+0100
TZNAME:Europe/Berlin CET
END:STANDARD
BEGIN:STANDARD
DTSTART:20281029T020000
RDATE:20290325T030000
TZOFFSETFROM:+0200
TZOFFSETTO:+0100
TZNAME:Europe/Berlin CET
END:STANDARD
BEGIN:STANDARD
DTSTART:20291028T020000
RDATE:20300331T030000
TZOFFSETFROM:+0200
TZOFFSETTO:+0100
TZNAME:Europe/Berlin CET
END:STANDARD
BEGIN:STANDARD
DTSTART:20301027T020000
RDATE:20310330T030000
TZOFFSETFROM:+0200
TZOFFSETTO:+0100
TZNAME:Europe/Berlin CET
END:STANDARD
BEGIN:STANDARD
DTSTART:20311026T020000
RDATE:20320328T030000
TZOFFSETFROM:+0200
TZOFFSETTO:+0100
TZNAME:Europe/Berlin CET
END:STANDARD
BEGIN:STANDARD
DTSTART:20321031T020000
RDATE:20330327T030000
TZOFFSETFROM:+0200
TZOFFSETTO:+0100
TZNAME:Europe/Berlin CET
END:STANDARD
BEGIN:DAYLIGHT
DTSTART:20240530T000000
RDATE:20241027T020000
TZOFFSETFROM:+0100
TZOFFSETTO:+0200
TZNAME:Europe/Berlin CEST
END:DAYLIGHT
BEGIN:DAYLIGHT
DTSTART:20250330T030000
RDATE:20251026T020000
TZOFFSETFROM:+0100
TZOFFSETTO:+0200
TZNAME:Europe/Berlin CEST
END:DAYLIGHT
BEGIN:DAYLIGHT
DTSTART:20260329T030000
RDATE:20261025T020000
TZOFFSETFROM:+0100
TZOFFSETTO:+0200
TZNAME:Europe/Berlin CEST
END:DAYLIGHT
BEGIN:DAYLIGHT
DTSTART:20270328T030000
RDATE:20271031T020000
TZOFFSETFROM:+0100
TZOFFSETTO:+0200
TZNAME:Europe/Berlin CEST
END:DAYLIGHT
BEGIN:DAYLIGHT
DTSTART:20280326T030000
RDATE:20281029T020000
TZOFFSETFROM:+0100
TZOFFSETTO:+0200
TZNAME:Europe/Berlin CEST
END:DAYLIGHT
BEGIN:DAYLIGHT
DTSTART:20290325T030000
RDATE:20291028T020000
TZOFFSETFROM:+0100
TZOFFSETTO:+0200
TZNAME:Europe/Berlin CEST
END:DAYLIGHT
BEGIN:DAYLIGHT
DTSTART:20300331T030000
RDATE:20301027T020000
TZOFFSETFROM:+0100
TZOFFSETTO:+0200
TZNAME:Europe/Berlin CEST
END:DAYLIGHT
BEGIN:DAYLIGHT
DTSTART:20310330T030000
RDATE:20311026T020000
TZOFFSETFROM:+0100
TZOFFSETTO:+0200
TZNAME:Europe/Berlin CEST
END:DAYLIGHT
BEGIN:DAYLIGHT
DTSTART:20320328T030000
RDATE:20321031T020000
TZOFFSETFROM:+0100
TZOFFSETTO:+0200
TZNAME:Europe/Berlin CEST
END:DAYLIGHT
END:VTIMEZONE
BEGIN:VEVENT
UID:69849ff0acf2a98cb8e78f04b9153e4e
CATEGORIES:sonstige Termine
CREATED:20250207T211645
SUMMARY: 22. Leistungsmarsch im Regierungsbezirk Oberfranken
LOCATION: Berg im Landkreis Hof
DESCRIPTION:<p>Ausschreibung für den 22. Leistungsmarsch im Regierungsbezirk Oberfranke
 n nach den Richtlinien „Leistungsmarsch in Bayern“</p><p>dieser findet am 3
 1. Mai 2025 in Berg im Landkreis Hof statt.</p><p>&nbsp;</p><p>Der Anmeldes
 chluss für den Leistungsmarsch ist <strong>Sonntag, 04.Mai 2025</strong>.</
 p><p>&nbsp;</p><p>Für die Durchführung des Leistungsmarsches gilt die Wettb
 ewerbsordnung</p><p><strong>„Leistungsmarsch in Bayern“</strong></p><p><str
 ong>(Stand: 01.01.2017)</strong></p><p><strong>Version 3.0</strong></p><p>D
 iese könnt ihr auf der Homepage des LFV Bayern und auf der Anmeldeseite dow
 nloaden.</p><p>Die Anmeldeseite ist ab sofort freigeschaltet unter folgende
 n Link</p><p><a href="https://leistungsmarsch.eu/" data-saferedirecturl="ht
 tps://www.google.com/url?q=https://leistungsmarsch.eu/&amp;source=gmail&amp
 ;ust=1739045182784000&amp;usg=AOvVaw1I6Ggq6MbeSlsN6UuXMAV_"></a><a href="ht
 tps://leistungsmarsch.eu/">https://leistungsmarsch.eu/</a></p><p>erreichbar
 .</p><p>Die Übungsvorlagen sind auf der Anmeldeseite auch bereits hinterleg
 t.</p>
DTSTAMP:20260423T220703
DTSTART;TZID=Europe/Berlin;VALUE=DATE:20250531
DTEND;TZID=Europe/Berlin;VALUE=DATE:20250601
SEQUENCE:0
TRANSP:OPAQUE
END:VEVENT
END:VCALENDAR