BEGIN:VCALENDAR
VERSION:2.0
PRODID:-//jEvents 2.0 for Joomla//EN
CALSCALE:GREGORIAN
METHOD:PUBLISH
BEGIN:VTIMEZONE
TZID:Europe/Berlin
BEGIN:STANDARD
DTSTART:20231029T020000
RDATE:20240331T030000
TZOFFSETFROM:+0200
TZOFFSETTO:+0100
TZNAME:Europe/Berlin CET
END:STANDARD
BEGIN:STANDARD
DTSTART:20241027T020000
RDATE:20250330T030000
TZOFFSETFROM:+0200
TZOFFSETTO:+0100
TZNAME:Europe/Berlin CET
END:STANDARD
BEGIN:STANDARD
DTSTART:20251026T020000
RDATE:20260329T030000
TZOFFSETFROM:+0200
TZOFFSETTO:+0100
TZNAME:Europe/Berlin CET
END:STANDARD
BEGIN:STANDARD
DTSTART:20261025T020000
RDATE:20270328T030000
TZOFFSETFROM:+0200
TZOFFSETTO:+0100
TZNAME:Europe/Berlin CET
END:STANDARD
BEGIN:STANDARD
DTSTART:20271031T020000
RDATE:20280326T030000
TZOFFSETFROM:+0200
TZOFFSETTO:+0100
TZNAME:Europe/Berlin CET
END:STANDARD
BEGIN:STANDARD
DTSTART:20281029T020000
RDATE:20290325T030000
TZOFFSETFROM:+0200
TZOFFSETTO:+0100
TZNAME:Europe/Berlin CET
END:STANDARD
BEGIN:STANDARD
DTSTART:20291028T020000
RDATE:20300331T030000
TZOFFSETFROM:+0200
TZOFFSETTO:+0100
TZNAME:Europe/Berlin CET
END:STANDARD
BEGIN:STANDARD
DTSTART:20301027T020000
RDATE:20310330T030000
TZOFFSETFROM:+0200
TZOFFSETTO:+0100
TZNAME:Europe/Berlin CET
END:STANDARD
BEGIN:STANDARD
DTSTART:20311026T020000
RDATE:20320328T030000
TZOFFSETFROM:+0200
TZOFFSETTO:+0100
TZNAME:Europe/Berlin CET
END:STANDARD
BEGIN:STANDARD
DTSTART:20321031T020000
RDATE:20330327T030000
TZOFFSETFROM:+0200
TZOFFSETTO:+0100
TZNAME:Europe/Berlin CET
END:STANDARD
BEGIN:DAYLIGHT
DTSTART:20230504T170000
RDATE:20231029T020000
TZOFFSETFROM:+0100
TZOFFSETTO:+0200
TZNAME:Europe/Berlin CEST
END:DAYLIGHT
BEGIN:DAYLIGHT
DTSTART:20240331T030000
RDATE:20241027T020000
TZOFFSETFROM:+0100
TZOFFSETTO:+0200
TZNAME:Europe/Berlin CEST
END:DAYLIGHT
BEGIN:DAYLIGHT
DTSTART:20250330T030000
RDATE:20251026T020000
TZOFFSETFROM:+0100
TZOFFSETTO:+0200
TZNAME:Europe/Berlin CEST
END:DAYLIGHT
BEGIN:DAYLIGHT
DTSTART:20260329T030000
RDATE:20261025T020000
TZOFFSETFROM:+0100
TZOFFSETTO:+0200
TZNAME:Europe/Berlin CEST
END:DAYLIGHT
BEGIN:DAYLIGHT
DTSTART:20270328T030000
RDATE:20271031T020000
TZOFFSETFROM:+0100
TZOFFSETTO:+0200
TZNAME:Europe/Berlin CEST
END:DAYLIGHT
BEGIN:DAYLIGHT
DTSTART:20280326T030000
RDATE:20281029T020000
TZOFFSETFROM:+0100
TZOFFSETTO:+0200
TZNAME:Europe/Berlin CEST
END:DAYLIGHT
BEGIN:DAYLIGHT
DTSTART:20290325T030000
RDATE:20291028T020000
TZOFFSETFROM:+0100
TZOFFSETTO:+0200
TZNAME:Europe/Berlin CEST
END:DAYLIGHT
BEGIN:DAYLIGHT
DTSTART:20300331T030000
RDATE:20301027T020000
TZOFFSETFROM:+0100
TZOFFSETTO:+0200
TZNAME:Europe/Berlin CEST
END:DAYLIGHT
BEGIN:DAYLIGHT
DTSTART:20310330T030000
RDATE:20311026T020000
TZOFFSETFROM:+0100
TZOFFSETTO:+0200
TZNAME:Europe/Berlin CEST
END:DAYLIGHT
BEGIN:DAYLIGHT
DTSTART:20320328T030000
RDATE:20321031T020000
TZOFFSETFROM:+0100
TZOFFSETTO:+0200
TZNAME:Europe/Berlin CEST
END:DAYLIGHT
END:VTIMEZONE
BEGIN:VEVENT
UID:7eca386a6fed16927726c4e3164ebe5e
CATEGORIES:Veranstaltung einer Feuerwehr
CREATED:20240402T140126
SUMMARY:Feuerwehr Ettleben - Florianstag/Feuerwehrfest 
DESCRIPTION:Samstag, 04.05.2024\n17:00 Uhr Messfeier zum Florianstag in der Kirche St. 
 Michael in Ettleben\n18:00 Uhr Festbetrieb mit musikalischer Unterhaltung v
 on Drüm Rüm - Grillspezialitäten: Currywurst, Pommes, Steak, Bratwürste\n21
 :00 Uhr Barbetrieb\nSonntag, 05.05.202410:00 Uhr Frühschoppen\n11:00 Uhr Mi
 ttagsessen: Fränkisches Hochzeitsessen, Feuerwehrbraten\nGanztägig Festbetr
 ieb mit Grillspezialitäten, Gerupftenstangen, Kaffee und Kuchen\n14:00 Uhr 
 Spiel und Spaß für Kinder: Neue Hüpfburg, Mohrenkopfschleudern, Feuerwehrau
 torundfahrten, Eis\n
X-ALT-DESC;FMTTYPE=text/html:<p>Samstag, 04.05.2024<br />17:00 Uhr Messfeier zum Florianstag in der Kirc
 he St. Michael in Ettleben<br />18:00 Uhr Festbetrieb mit musikalischer Unt
 erhaltung von Drüm Rüm - Grillspezialitäten: Currywurst, Pommes, Steak, Bra
 twürste<br />21:00 Uhr Barbetrieb</p><p>Sonntag, 05.05.202410:00 Uhr Frühsc
 hoppen<br />11:00 Uhr Mittagsessen: Fränkisches Hochzeitsessen, Feuerwehrbr
 aten<br />Ganztägig Festbetrieb mit Grillspezialitäten, Gerupftenstangen, K
 affee und Kuchen<br />14:00 Uhr Spiel und Spaß für Kinder: Neue Hüpfburg, M
 ohrenkopfschleudern, Feuerwehrautorundfahrten, Eis</p>
DTSTAMP:20260421T224437
DTSTART;TZID=Europe/Berlin:20240504T170000
DTEND;TZID=Europe/Berlin;VALUE=DATE:20240506
SEQUENCE:0
TRANSP:OPAQUE
END:VEVENT
END:VCALENDAR