BEGIN:VCALENDAR
VERSION:2.0
PRODID:-//jEvents 2.0 for Joomla//EN
CALSCALE:GREGORIAN
METHOD:PUBLISH
BEGIN:VTIMEZONE
TZID:Europe/Berlin
BEGIN:STANDARD
DTSTART:20211031T020000
RDATE:20220327T030000
TZOFFSETFROM:+0200
TZOFFSETTO:+0100
TZNAME:Europe/Berlin CET
END:STANDARD
BEGIN:STANDARD
DTSTART:20221030T020000
RDATE:20230326T030000
TZOFFSETFROM:+0200
TZOFFSETTO:+0100
TZNAME:Europe/Berlin CET
END:STANDARD
BEGIN:STANDARD
DTSTART:20231029T020000
RDATE:20240331T030000
TZOFFSETFROM:+0200
TZOFFSETTO:+0100
TZNAME:Europe/Berlin CET
END:STANDARD
BEGIN:STANDARD
DTSTART:20241027T020000
RDATE:20250330T030000
TZOFFSETFROM:+0200
TZOFFSETTO:+0100
TZNAME:Europe/Berlin CET
END:STANDARD
BEGIN:STANDARD
DTSTART:20251026T020000
RDATE:20260329T030000
TZOFFSETFROM:+0200
TZOFFSETTO:+0100
TZNAME:Europe/Berlin CET
END:STANDARD
BEGIN:STANDARD
DTSTART:20261025T020000
RDATE:20270328T030000
TZOFFSETFROM:+0200
TZOFFSETTO:+0100
TZNAME:Europe/Berlin CET
END:STANDARD
BEGIN:STANDARD
DTSTART:20271031T020000
RDATE:20280326T030000
TZOFFSETFROM:+0200
TZOFFSETTO:+0100
TZNAME:Europe/Berlin CET
END:STANDARD
BEGIN:STANDARD
DTSTART:20281029T020000
RDATE:20290325T030000
TZOFFSETFROM:+0200
TZOFFSETTO:+0100
TZNAME:Europe/Berlin CET
END:STANDARD
BEGIN:STANDARD
DTSTART:20291028T020000
RDATE:20300331T030000
TZOFFSETFROM:+0200
TZOFFSETTO:+0100
TZNAME:Europe/Berlin CET
END:STANDARD
BEGIN:STANDARD
DTSTART:20301027T020000
RDATE:20310330T030000
TZOFFSETFROM:+0200
TZOFFSETTO:+0100
TZNAME:Europe/Berlin CET
END:STANDARD
BEGIN:STANDARD
DTSTART:20311026T020000
RDATE:20320328T030000
TZOFFSETFROM:+0200
TZOFFSETTO:+0100
TZNAME:Europe/Berlin CET
END:STANDARD
BEGIN:STANDARD
DTSTART:20321031T020000
RDATE:20330327T030000
TZOFFSETFROM:+0200
TZOFFSETTO:+0100
TZNAME:Europe/Berlin CET
END:STANDARD
BEGIN:DAYLIGHT
DTSTART:20210916T070000
RDATE:20211031T020000
TZOFFSETFROM:+0100
TZOFFSETTO:+0200
TZNAME:Europe/Berlin CEST
END:DAYLIGHT
BEGIN:DAYLIGHT
DTSTART:20220327T030000
RDATE:20221030T020000
TZOFFSETFROM:+0100
TZOFFSETTO:+0200
TZNAME:Europe/Berlin CEST
END:DAYLIGHT
BEGIN:DAYLIGHT
DTSTART:20230326T030000
RDATE:20231029T020000
TZOFFSETFROM:+0100
TZOFFSETTO:+0200
TZNAME:Europe/Berlin CEST
END:DAYLIGHT
BEGIN:DAYLIGHT
DTSTART:20240331T030000
RDATE:20241027T020000
TZOFFSETFROM:+0100
TZOFFSETTO:+0200
TZNAME:Europe/Berlin CEST
END:DAYLIGHT
BEGIN:DAYLIGHT
DTSTART:20250330T030000
RDATE:20251026T020000
TZOFFSETFROM:+0100
TZOFFSETTO:+0200
TZNAME:Europe/Berlin CEST
END:DAYLIGHT
BEGIN:DAYLIGHT
DTSTART:20260329T030000
RDATE:20261025T020000
TZOFFSETFROM:+0100
TZOFFSETTO:+0200
TZNAME:Europe/Berlin CEST
END:DAYLIGHT
BEGIN:DAYLIGHT
DTSTART:20270328T030000
RDATE:20271031T020000
TZOFFSETFROM:+0100
TZOFFSETTO:+0200
TZNAME:Europe/Berlin CEST
END:DAYLIGHT
BEGIN:DAYLIGHT
DTSTART:20280326T030000
RDATE:20281029T020000
TZOFFSETFROM:+0100
TZOFFSETTO:+0200
TZNAME:Europe/Berlin CEST
END:DAYLIGHT
BEGIN:DAYLIGHT
DTSTART:20290325T030000
RDATE:20291028T020000
TZOFFSETFROM:+0100
TZOFFSETTO:+0200
TZNAME:Europe/Berlin CEST
END:DAYLIGHT
BEGIN:DAYLIGHT
DTSTART:20300331T030000
RDATE:20301027T020000
TZOFFSETFROM:+0100
TZOFFSETTO:+0200
TZNAME:Europe/Berlin CEST
END:DAYLIGHT
BEGIN:DAYLIGHT
DTSTART:20310330T030000
RDATE:20311026T020000
TZOFFSETFROM:+0100
TZOFFSETTO:+0200
TZNAME:Europe/Berlin CEST
END:DAYLIGHT
BEGIN:DAYLIGHT
DTSTART:20320328T030000
RDATE:20321031T020000
TZOFFSETFROM:+0100
TZOFFSETTO:+0200
TZNAME:Europe/Berlin CEST
END:DAYLIGHT
END:VTIMEZONE
BEGIN:VEVENT
UID:87e0bf01f4c00aafa280c78585e0fbf8
CATEGORIES:Kreisjugendfeuerwehrverband
CREATED:20220721T101938
SUMMARY:Ausflug für Kinderfeuerwehrbetreuer/innen und Jugendwart/innen
DESCRIPTION:<p>Die Anmeldung läuft zentral (wie bei Lehrgangsanmeldung) über die Homepa
 ge <a href="https://www.kfv-sw.de" target="_blank" rel="noopener">www.kfv-s
 w.de</a>. Anmeldeschluss ist der 31.07.22!<br />Alternativ, für diejenigen,
  die KEINE Zugangsdaten zum Portal haben, geht es auch per Mail an unserem 
 Kreisjugendsprecher Maximilian Löber: <a href="mailto:Maxi_L@web.de."><span
  id="cloak4032693f8952becb65a34f2d913316fb">Diese E-Mail-Adresse ist vor Sp
 ambots geschützt! Zur Anzeige muss JavaScript eingeschaltet sein!</span><sc
 ript type='text/javascript'>
				document.getElementById('cloak4032693f8952
 becb65a34f2d913316fb').innerHTML = '';
				var prefix = '&#109;a' + 'i&#108
 ;' + '&#116;o';
				var path = 'hr' + 'ef' + '=';
				var addy4032693f8952b
 ecb65a34f2d913316fb = 'M&#97;x&#105;_L' + '&#64;';
				addy4032693f8952becb
 65a34f2d913316fb = addy4032693f8952becb65a34f2d913316fb + 'w&#101;b' + '&#4
 6;' + 'd&#101;';
				var addy_text4032693f8952becb65a34f2d913316fb = 'M&#97
 ;x&#105;_L' + '&#64;' + 'w&#101;b' + '&#46;' + 'd&#101;';document.getElemen
 tById('cloak4032693f8952becb65a34f2d913316fb').innerHTML += '<a ' + path + 
 '\'' + prefix + ':' + addy4032693f8952becb65a34f2d913316fb + '\'>'+addy_tex
 t4032693f8952becb65a34f2d913316fb+'<\/a>';
		</script>.</a></p><p>&nbsp;</p
 ><p><a href="images/jugend/download/Anschreiben-Ausflug_Tezcnikmuseum_Speye
 r_2022.pdf" target="_blank" rel="noopener">Anschreiben Ausflug Technikmuseu
 m Speyer</a></p>
X-ALT-DESC;FMTTYPE=text/html:<p>Die Anmeldung läuft zentral (wie bei Lehrgangsanmeldung) über die Homepa
 ge <a href="https://www.kfv-sw.de" target="_blank" rel="noopener">www.kfv-s
 w.de</a>. Anmeldeschluss ist der 31.07.22!<br />Alternativ, für diejenigen,
  die KEINE Zugangsdaten zum Portal haben, geht es auch per Mail an unserem 
 Kreisjugendsprecher Maximilian Löber: <a href="mailto:Maxi_L@web.de."><span
  id="cloak4032693f8952becb65a34f2d913316fb">Diese E-Mail-Adresse ist vor Sp
 ambots geschützt! Zur Anzeige muss JavaScript eingeschaltet sein!</span><sc
 ript type='text/javascript'>
				document.getElementById('cloak4032693f8952
 becb65a34f2d913316fb').innerHTML = '';
				var prefix = '&#109;a' + 'i&#108
 ;' + '&#116;o';
				var path = 'hr' + 'ef' + '=';
				var addy4032693f8952b
 ecb65a34f2d913316fb = 'M&#97;x&#105;_L' + '&#64;';
				addy4032693f8952becb
 65a34f2d913316fb = addy4032693f8952becb65a34f2d913316fb + 'w&#101;b' + '&#4
 6;' + 'd&#101;';
				var addy_text4032693f8952becb65a34f2d913316fb = 'M&#97
 ;x&#105;_L' + '&#64;' + 'w&#101;b' + '&#46;' + 'd&#101;';document.getElemen
 tById('cloak4032693f8952becb65a34f2d913316fb').innerHTML += '<a ' + path + 
 '\'' + prefix + ':' + addy4032693f8952becb65a34f2d913316fb + '\'>'+addy_tex
 t4032693f8952becb65a34f2d913316fb+'<\/a>';
		</script>.</a></p><p>&nbsp;</p
 ><p><a href="https://www.kfv-schweinfurt.de/images/jugend/download/Anschrei
 ben-Ausflug_Tezcnikmuseum_Speyer_2022.pdf" target="_blank" rel="noopener">A
 nschreiben Ausflug Technikmuseum Speyer</a></p>
DTSTAMP:20260423T132853
DTSTART;TZID=Europe/Berlin:20220917T070000
SEQUENCE:0
TRANSP:OPAQUE
END:VEVENT
END:VCALENDAR