BEGIN:VCALENDAR
VERSION:2.0
PRODID:-//jEvents 2.0 for Joomla//EN
CALSCALE:GREGORIAN
METHOD:PUBLISH
BEGIN:VTIMEZONE
TZID:Europe/Berlin
BEGIN:STANDARD
DTSTART:20211031T020000
RDATE:20220327T030000
TZOFFSETFROM:+0200
TZOFFSETTO:+0100
TZNAME:Europe/Berlin CET
END:STANDARD
BEGIN:STANDARD
DTSTART:20221030T020000
RDATE:20230326T030000
TZOFFSETFROM:+0200
TZOFFSETTO:+0100
TZNAME:Europe/Berlin CET
END:STANDARD
BEGIN:STANDARD
DTSTART:20231029T020000
RDATE:20240331T030000
TZOFFSETFROM:+0200
TZOFFSETTO:+0100
TZNAME:Europe/Berlin CET
END:STANDARD
BEGIN:STANDARD
DTSTART:20241027T020000
RDATE:20250330T030000
TZOFFSETFROM:+0200
TZOFFSETTO:+0100
TZNAME:Europe/Berlin CET
END:STANDARD
BEGIN:STANDARD
DTSTART:20251026T020000
RDATE:20260329T030000
TZOFFSETFROM:+0200
TZOFFSETTO:+0100
TZNAME:Europe/Berlin CET
END:STANDARD
BEGIN:STANDARD
DTSTART:20261025T020000
RDATE:20270328T030000
TZOFFSETFROM:+0200
TZOFFSETTO:+0100
TZNAME:Europe/Berlin CET
END:STANDARD
BEGIN:STANDARD
DTSTART:20271031T020000
RDATE:20280326T030000
TZOFFSETFROM:+0200
TZOFFSETTO:+0100
TZNAME:Europe/Berlin CET
END:STANDARD
BEGIN:STANDARD
DTSTART:20281029T020000
RDATE:20290325T030000
TZOFFSETFROM:+0200
TZOFFSETTO:+0100
TZNAME:Europe/Berlin CET
END:STANDARD
BEGIN:STANDARD
DTSTART:20291028T020000
RDATE:20300331T030000
TZOFFSETFROM:+0200
TZOFFSETTO:+0100
TZNAME:Europe/Berlin CET
END:STANDARD
BEGIN:STANDARD
DTSTART:20301027T020000
RDATE:20310330T030000
TZOFFSETFROM:+0200
TZOFFSETTO:+0100
TZNAME:Europe/Berlin CET
END:STANDARD
BEGIN:STANDARD
DTSTART:20311026T020000
RDATE:20320328T030000
TZOFFSETFROM:+0200
TZOFFSETTO:+0100
TZNAME:Europe/Berlin CET
END:STANDARD
BEGIN:STANDARD
DTSTART:20321031T020000
RDATE:20330327T030000
TZOFFSETFROM:+0200
TZOFFSETTO:+0100
TZNAME:Europe/Berlin CET
END:STANDARD
BEGIN:DAYLIGHT
DTSTART:20210924T100000
RDATE:20211031T020000
TZOFFSETFROM:+0100
TZOFFSETTO:+0200
TZNAME:Europe/Berlin CEST
END:DAYLIGHT
BEGIN:DAYLIGHT
DTSTART:20220327T030000
RDATE:20221030T020000
TZOFFSETFROM:+0100
TZOFFSETTO:+0200
TZNAME:Europe/Berlin CEST
END:DAYLIGHT
BEGIN:DAYLIGHT
DTSTART:20230326T030000
RDATE:20231029T020000
TZOFFSETFROM:+0100
TZOFFSETTO:+0200
TZNAME:Europe/Berlin CEST
END:DAYLIGHT
BEGIN:DAYLIGHT
DTSTART:20240331T030000
RDATE:20241027T020000
TZOFFSETFROM:+0100
TZOFFSETTO:+0200
TZNAME:Europe/Berlin CEST
END:DAYLIGHT
BEGIN:DAYLIGHT
DTSTART:20250330T030000
RDATE:20251026T020000
TZOFFSETFROM:+0100
TZOFFSETTO:+0200
TZNAME:Europe/Berlin CEST
END:DAYLIGHT
BEGIN:DAYLIGHT
DTSTART:20260329T030000
RDATE:20261025T020000
TZOFFSETFROM:+0100
TZOFFSETTO:+0200
TZNAME:Europe/Berlin CEST
END:DAYLIGHT
BEGIN:DAYLIGHT
DTSTART:20270328T030000
RDATE:20271031T020000
TZOFFSETFROM:+0100
TZOFFSETTO:+0200
TZNAME:Europe/Berlin CEST
END:DAYLIGHT
BEGIN:DAYLIGHT
DTSTART:20280326T030000
RDATE:20281029T020000
TZOFFSETFROM:+0100
TZOFFSETTO:+0200
TZNAME:Europe/Berlin CEST
END:DAYLIGHT
BEGIN:DAYLIGHT
DTSTART:20290325T030000
RDATE:20291028T020000
TZOFFSETFROM:+0100
TZOFFSETTO:+0200
TZNAME:Europe/Berlin CEST
END:DAYLIGHT
BEGIN:DAYLIGHT
DTSTART:20300331T030000
RDATE:20301027T020000
TZOFFSETFROM:+0100
TZOFFSETTO:+0200
TZNAME:Europe/Berlin CEST
END:DAYLIGHT
BEGIN:DAYLIGHT
DTSTART:20310330T030000
RDATE:20311026T020000
TZOFFSETFROM:+0100
TZOFFSETTO:+0200
TZNAME:Europe/Berlin CEST
END:DAYLIGHT
BEGIN:DAYLIGHT
DTSTART:20320328T030000
RDATE:20321031T020000
TZOFFSETFROM:+0100
TZOFFSETTO:+0200
TZNAME:Europe/Berlin CEST
END:DAYLIGHT
END:VTIMEZONE
BEGIN:VEVENT
UID:55dc1f5b92ba8d9a0a238d255d9ac034
CATEGORIES:Feuerwehrfrauen
CREATED:20220721T101420
SUMMARY:Frauenseminar: Richtiger Umgang mit Pferden bei Einsätzen
LOCATION:Zeilitzheim
DESCRIPTION:<p>Anmeldung unter <span id="cloaka95e840ab9a816c6e612d60a9ac48fe1">Diese E
 -Mail-Adresse ist vor Spambots geschützt! Zur Anzeige muss JavaScript einge
 schaltet sein!</span><script type='text/javascript'>
				document.getElemen
 tById('cloaka95e840ab9a816c6e612d60a9ac48fe1').innerHTML = '';
				var pref
 ix = '&#109;a' + 'i&#108;' + '&#116;o';
				var path = 'hr' + 'ef' + '=';
	
 			var addya95e840ab9a816c6e612d60a9ac48fe1 = 'n&#97;d&#105;n&#101;.b&#101;
 chm&#97;nn' + '&#64;';
				addya95e840ab9a816c6e612d60a9ac48fe1 = addya95e8
 40ab9a816c6e612d60a9ac48fe1 + 'kfv-schw&#101;&#105;nf&#117;rt' + '&#46;' + 
 'd&#101;';
				var addy_texta95e840ab9a816c6e612d60a9ac48fe1 = 'n&#97;d&#10
 5;n&#101;.b&#101;chm&#97;nn' + '&#64;' + 'kfv-schw&#101;&#105;nf&#117;rt' +
  '&#46;' + 'd&#101;';document.getElementById('cloaka95e840ab9a816c6e612d60a
 9ac48fe1').innerHTML += '<a ' + path + '\'' + prefix + ':' + addya95e840ab9
 a816c6e612d60a9ac48fe1 + '\'>'+addy_texta95e840ab9a816c6e612d60a9ac48fe1+'<
 \/a>';
		</script></p><p>&nbsp;</p>
CONTACT:Diese E-Mail-Adresse ist vor Spambots geschützt! Zur Anzeige muss JavaScript eingeschaltet sein!
				document.getElementById('cloaka66582c09948145d7ee0357206f97081').innerHTML = '';
				var prefix = '&#109;a' + 'i&#108;' + '&#116;o';
				var path = 'hr' + 'ef' + '=';
				var addya66582c09948145d7ee0357206f97081 = 'n&#97;d&#105;n&#101;.b&#101;chm&#97;nn' + '&#64;';
				addya66582c09948145d7ee0357206f97081 = addya66582c09948145d7ee0357206f97081 + 'kfv-schw&#101;&#105;nf&#117;rt' + '&#46;' + 'd&#101;';
				var addy_texta66582c09948145d7ee0357206f97081 = 'n&#97;d&#105;n&#101;.b&#101;chm&#97;nn' + '&#64;' + 'kfv-schw&#101;&#105;nf&#117;rt' + '&#46;' + 'd&#101;';document.getElementById('cloaka66582c09948145d7ee0357206f97081').innerHTML += '<a ' + path + '\'' + prefix + ':' + addya66582c09948145d7ee0357206f97081 + '\'>'+addy_texta66582c09948145d7ee0357206f97081+'';
		
DTSTAMP:20260422T023341
DTSTART;TZID=Europe/Berlin:20220925T100000
SEQUENCE:0
TRANSP:OPAQUE
END:VEVENT
END:VCALENDAR