BEGIN:VCALENDAR
VERSION:2.0
PRODID:-//jEvents 2.0 for Joomla//EN
CALSCALE:GREGORIAN
METHOD:PUBLISH
BEGIN:VTIMEZONE
TZID:Europe/Berlin
BEGIN:STANDARD
DTSTART:20151209T140000
RDATE:20160327T030000
TZOFFSETFROM:+0200
TZOFFSETTO:+0100
TZNAME:Europe/Berlin CET
END:STANDARD
BEGIN:STANDARD
DTSTART:20161030T020000
RDATE:20170326T030000
TZOFFSETFROM:+0200
TZOFFSETTO:+0100
TZNAME:Europe/Berlin CET
END:STANDARD
BEGIN:STANDARD
DTSTART:20171029T020000
RDATE:20180325T030000
TZOFFSETFROM:+0200
TZOFFSETTO:+0100
TZNAME:Europe/Berlin CET
END:STANDARD
BEGIN:STANDARD
DTSTART:20181028T020000
RDATE:20190331T030000
TZOFFSETFROM:+0200
TZOFFSETTO:+0100
TZNAME:Europe/Berlin CET
END:STANDARD
BEGIN:STANDARD
DTSTART:20191027T020000
RDATE:20200329T030000
TZOFFSETFROM:+0200
TZOFFSETTO:+0100
TZNAME:Europe/Berlin CET
END:STANDARD
BEGIN:STANDARD
DTSTART:20201025T020000
RDATE:20210328T030000
TZOFFSETFROM:+0200
TZOFFSETTO:+0100
TZNAME:Europe/Berlin CET
END:STANDARD
BEGIN:STANDARD
DTSTART:20211031T020000
RDATE:20220327T030000
TZOFFSETFROM:+0200
TZOFFSETTO:+0100
TZNAME:Europe/Berlin CET
END:STANDARD
BEGIN:STANDARD
DTSTART:20221030T020000
RDATE:20230326T030000
TZOFFSETFROM:+0200
TZOFFSETTO:+0100
TZNAME:Europe/Berlin CET
END:STANDARD
BEGIN:STANDARD
DTSTART:20231029T020000
RDATE:20240331T030000
TZOFFSETFROM:+0200
TZOFFSETTO:+0100
TZNAME:Europe/Berlin CET
END:STANDARD
BEGIN:STANDARD
DTSTART:20241027T020000
RDATE:20250330T030000
TZOFFSETFROM:+0200
TZOFFSETTO:+0100
TZNAME:Europe/Berlin CET
END:STANDARD
BEGIN:STANDARD
DTSTART:20251026T020000
RDATE:20260329T030000
TZOFFSETFROM:+0200
TZOFFSETTO:+0100
TZNAME:Europe/Berlin CET
END:STANDARD
BEGIN:STANDARD
DTSTART:20261025T020000
RDATE:20270328T030000
TZOFFSETFROM:+0200
TZOFFSETTO:+0100
TZNAME:Europe/Berlin CET
END:STANDARD
BEGIN:STANDARD
DTSTART:20271031T020000
RDATE:20280326T030000
TZOFFSETFROM:+0200
TZOFFSETTO:+0100
TZNAME:Europe/Berlin CET
END:STANDARD
BEGIN:STANDARD
DTSTART:20281029T020000
RDATE:20290325T030000
TZOFFSETFROM:+0200
TZOFFSETTO:+0100
TZNAME:Europe/Berlin CET
END:STANDARD
BEGIN:STANDARD
DTSTART:20291028T020000
RDATE:20300331T030000
TZOFFSETFROM:+0200
TZOFFSETTO:+0100
TZNAME:Europe/Berlin CET
END:STANDARD
BEGIN:STANDARD
DTSTART:20301027T020000
RDATE:20310330T030000
TZOFFSETFROM:+0200
TZOFFSETTO:+0100
TZNAME:Europe/Berlin CET
END:STANDARD
BEGIN:STANDARD
DTSTART:20311026T020000
RDATE:20320328T030000
TZOFFSETFROM:+0200
TZOFFSETTO:+0100
TZNAME:Europe/Berlin CET
END:STANDARD
BEGIN:STANDARD
DTSTART:20321031T020000
RDATE:20330327T030000
TZOFFSETFROM:+0200
TZOFFSETTO:+0100
TZNAME:Europe/Berlin CET
END:STANDARD
BEGIN:DAYLIGHT
DTSTART:20160327T030000
RDATE:20161030T020000
TZOFFSETFROM:+0100
TZOFFSETTO:+0200
TZNAME:Europe/Berlin CEST
END:DAYLIGHT
BEGIN:DAYLIGHT
DTSTART:20170326T030000
RDATE:20171029T020000
TZOFFSETFROM:+0100
TZOFFSETTO:+0200
TZNAME:Europe/Berlin CEST
END:DAYLIGHT
BEGIN:DAYLIGHT
DTSTART:20180325T030000
RDATE:20181028T020000
TZOFFSETFROM:+0100
TZOFFSETTO:+0200
TZNAME:Europe/Berlin CEST
END:DAYLIGHT
BEGIN:DAYLIGHT
DTSTART:20190331T030000
RDATE:20191027T020000
TZOFFSETFROM:+0100
TZOFFSETTO:+0200
TZNAME:Europe/Berlin CEST
END:DAYLIGHT
BEGIN:DAYLIGHT
DTSTART:20200329T030000
RDATE:20201025T020000
TZOFFSETFROM:+0100
TZOFFSETTO:+0200
TZNAME:Europe/Berlin CEST
END:DAYLIGHT
BEGIN:DAYLIGHT
DTSTART:20210328T030000
RDATE:20211031T020000
TZOFFSETFROM:+0100
TZOFFSETTO:+0200
TZNAME:Europe/Berlin CEST
END:DAYLIGHT
BEGIN:DAYLIGHT
DTSTART:20220327T030000
RDATE:20221030T020000
TZOFFSETFROM:+0100
TZOFFSETTO:+0200
TZNAME:Europe/Berlin CEST
END:DAYLIGHT
BEGIN:DAYLIGHT
DTSTART:20230326T030000
RDATE:20231029T020000
TZOFFSETFROM:+0100
TZOFFSETTO:+0200
TZNAME:Europe/Berlin CEST
END:DAYLIGHT
BEGIN:DAYLIGHT
DTSTART:20240331T030000
RDATE:20241027T020000
TZOFFSETFROM:+0100
TZOFFSETTO:+0200
TZNAME:Europe/Berlin CEST
END:DAYLIGHT
BEGIN:DAYLIGHT
DTSTART:20250330T030000
RDATE:20251026T020000
TZOFFSETFROM:+0100
TZOFFSETTO:+0200
TZNAME:Europe/Berlin CEST
END:DAYLIGHT
BEGIN:DAYLIGHT
DTSTART:20260329T030000
RDATE:20261025T020000
TZOFFSETFROM:+0100
TZOFFSETTO:+0200
TZNAME:Europe/Berlin CEST
END:DAYLIGHT
BEGIN:DAYLIGHT
DTSTART:20270328T030000
RDATE:20271031T020000
TZOFFSETFROM:+0100
TZOFFSETTO:+0200
TZNAME:Europe/Berlin CEST
END:DAYLIGHT
BEGIN:DAYLIGHT
DTSTART:20280326T030000
RDATE:20281029T020000
TZOFFSETFROM:+0100
TZOFFSETTO:+0200
TZNAME:Europe/Berlin CEST
END:DAYLIGHT
BEGIN:DAYLIGHT
DTSTART:20290325T030000
RDATE:20291028T020000
TZOFFSETFROM:+0100
TZOFFSETTO:+0200
TZNAME:Europe/Berlin CEST
END:DAYLIGHT
BEGIN:DAYLIGHT
DTSTART:20300331T030000
RDATE:20301027T020000
TZOFFSETFROM:+0100
TZOFFSETTO:+0200
TZNAME:Europe/Berlin CEST
END:DAYLIGHT
BEGIN:DAYLIGHT
DTSTART:20310330T030000
RDATE:20311026T020000
TZOFFSETFROM:+0100
TZOFFSETTO:+0200
TZNAME:Europe/Berlin CEST
END:DAYLIGHT
BEGIN:DAYLIGHT
DTSTART:20320328T030000
RDATE:20321031T020000
TZOFFSETFROM:+0100
TZOFFSETTO:+0200
TZNAME:Europe/Berlin CEST
END:DAYLIGHT
END:VTIMEZONE
BEGIN:VEVENT
UID:3f7ccd91caf0baee9d9a965fce54bcd9
CATEGORIES:Feuerwehrfrauen
CREATED:20161113T141308
SUMMARY:Gespräch im Bayerischen Landtag
DESCRIPTION:	Liebe Kameradinnen,\n	 	wie Ihr vielleicht gesehen habt, gab es einen groß
 en Bericht über uns in der aktuellen Brandwacht. Auf Grund dessen, wurden w
 ir jetzt nach München in den Landtag eingeladen! Hierzu möchte ich jede ein
 zelne von Euch herzlich einladen, an dem Termin teilzunehmen. Jede von Euch
  hat es verdient, mit zu kommen, denn ihr seid jederzeit bereit, für andere
  da zu sein und zu helfen! Das verdient größten Respekt!\n	 	Termin ist 09.
 12.16 um 14 Uhr in München!	Bitte bis 16.11.16 Bescheid geben!	 	Die weiter
 e Planung hängt von der Anzahl der Teilnehmerinnen ab.	 -&gt; Abfahrt ist F
 reitag früh, entweder mit dem Zug oder mit PKW.	 -&gt; Rückfahrt wird für d
 iejenigen, die nach Hause müssen am Freitag Abend sein.	      Diejenigen, d
 ie übernachten möchten, fahren Samstag zurück, da wir in München noch den W
 eihnachtsmarkt und evtl. eine Feuerwehr besichtigen möchten.\n	 	Die Kosten
  für Hin- und Rückfahrt und evtl. Übernachtung müssen selbst getragen werde
 n!	 						Ich würde mich sehr freuen, wenn viele könnten! Leider geht der T
 ermin nur unter der Woche.?		\n		Viele Grüße\n		 	Nadine Bechmann\n	\n	Krei
 sfeuerwehrverband Schweinfurt			Frauenbeauftragte\n	 
X-ALT-DESC;FMTTYPE=text/html:<div style="font-family:tahoma,sans-serif;font-size:small">	Liebe Kameradin
 nen,<br />	 </div><div style="font-family:tahoma,sans-serif;font-size:small
 ">	wie Ihr vielleicht gesehen habt, gab es einen großen Bericht über uns in
  der aktuellen Brandwacht. Auf Grund dessen, wurden wir jetzt nach München 
 in den Landtag eingeladen! <span style="color:rgb(255,0,0)"><u><i><b>Hierzu
  möchte ich jede einzelne von Euch herzlich einladen</b></i></u></span>, an
  dem Termin teilzunehmen. Jede von Euch hat es verdient, mit zu kommen, den
 n ihr seid jederzeit bereit, für andere da zu sein und zu helfen! Das verdi
 ent größten Respekt!<br />	 </div><div style="font-family:tahoma,sans-serif
 ;font-size:small;text-align:center">	<u><i><b><span style="background-color
 :rgb(255,0,0)"><font size="4">Termin ist 09.12.16 um 14 Uhr in München!</fo
 nt></span></b></i></u></div><div style="font-family:tahoma,sans-serif;font-
 size:small;text-align:center">	<u><i><b>Bitte bis 16.11.16 Bescheid geben!<
 /b></i></u></div><div style="font-family:tahoma,sans-serif;font-size:small;
 text-align:center">	 </div><div style="font-family:tahoma,sans-serif;font-s
 ize:small">	Die weitere Planung hängt von der Anzahl der Teilnehmerinnen ab
 .</div><div style="font-family:tahoma,sans-serif;font-size:small">	 -> Abfa
 hrt ist Freitag früh, entweder mit dem Zug oder mit PKW.</div><div style="f
 ont-family:tahoma,sans-serif;font-size:small">	 -> Rückfahrt wird für dieje
 nigen, die nach Hause müssen am Freitag Abend sein.</div><div style="font-f
 amily:tahoma,sans-serif;font-size:small">	      Diejenigen, die übernachten
  möchten, fahren Samstag zurück, da wir in München noch den Weihnachtsmarkt
  und evtl. eine Feuerwehr besichtigen möchten.<br />	 </div><div style="fon
 t-family:tahoma,sans-serif;font-size:small">	Die Kosten für Hin- und Rückfa
 hrt und evtl. Übernachtung müssen selbst getragen werden!</div><div style="
 font-family:tahoma,sans-serif;font-size:small">	 </div><div style="font-fam
 ily:tahoma,sans-serif;font-size:small">	<div>		<div>			Ich würde mich sehr 
 freuen, wenn viele könnten! Leider geht der Termin nur unter der Woche.?</d
 iv>		<br />		Viele Grüße<br />		 </div>	<span id="m_2848630895958057957:1j8
 .10">Nadine</span> <span id="m_2848630895958057957:1j8.11">Bechmann</span><
 br />	<br />	<b><span style="font-size:8pt">Kreisfeuerwehrverband Schweinfu
 rt</span></b>	<p>		<span style="font-size:8pt">Frauenbeauftragte</span></p>
 </div><div style="font-family:tahoma,sans-serif;font-size:small">	 </div>
DTSTAMP:20260421T205131
DTSTART;TZID=Europe/Berlin:20161209T140000
SEQUENCE:0
TRANSP:OPAQUE
END:VEVENT
END:VCALENDAR